Package: iClusterPlus Version: 1.42.0 Command: /Library/Frameworks/R.framework/Resources/bin/R CMD build --keep-empty-dirs --no-resave-data iClusterPlus StartedAt: 2025-02-04 01:38:43 -0500 (Tue, 04 Feb 2025) EndedAt: 2025-02-04 01:39:32 -0500 (Tue, 04 Feb 2025) EllapsedTime: 48.8 seconds RetCode: 0 Status: OK PackageFile: iClusterPlus_1.42.0.tar.gz PackageFileSize: 20.69 MiB