Package: iClusterPlus Version: 1.42.0 Command: rm -rf iClusterPlus.buildbin-libdir && mkdir iClusterPlus.buildbin-libdir && F:\biocbuild\bbs-3.20-bioc\R\bin\R.exe CMD INSTALL --build --library=iClusterPlus.buildbin-libdir iClusterPlus_1.42.0.tar.gz StartedAt: 2025-02-04 08:43:19 -0500 (Tue, 04 Feb 2025) EndedAt: 2025-02-04 08:44:38 -0500 (Tue, 04 Feb 2025) EllapsedTime: 78.2 seconds RetCode: 0 Status: OK PackageFile: iClusterPlus_1.42.0.zip PackageFileSize: 16.18 MiB