Package: iNETgrate Version: 1.4.0 Command: F:\biocbuild\bbs-3.20-bioc\R\bin\R.exe CMD INSTALL iNETgrate StartedAt: 2025-02-03 17:12:42 -0500 (Mon, 03 Feb 2025) EndedAt: 2025-02-03 17:14:01 -0500 (Mon, 03 Feb 2025) EllapsedTime: 79.2 seconds RetCode: 0 Status: OK