Package: iPAC Version: 1.50.0 Command: /Library/Frameworks/R.framework/Resources/bin/R CMD check --install=check:iPAC.install-out.txt --library=/Library/Frameworks/R.framework/Resources/library --no-vignettes --timings iPAC_1.50.0.tar.gz StartedAt: 2025-02-04 23:18:12 -0500 (Tue, 04 Feb 2025) EndedAt: 2025-02-04 23:22:17 -0500 (Tue, 04 Feb 2025) EllapsedTime: 245.0 seconds RetCode: 0 Status: OK CheckDir: iPAC.Rcheck Warnings: 0