Package: iPAC Version: 1.50.0 Command: /Library/Frameworks/R.framework/Resources/bin/R CMD build --keep-empty-dirs --no-resave-data iPAC StartedAt: 2025-02-03 19:48:17 -0500 (Mon, 03 Feb 2025) EndedAt: 2025-02-03 19:49:09 -0500 (Mon, 03 Feb 2025) EllapsedTime: 51.4 seconds RetCode: 0 Status: OK PackageFile: iPAC_1.50.0.tar.gz PackageFileSize: 619.3 KiB