Package: iSEE Version: 2.18.0 Command: rm -rf iSEE.buildbin-libdir && mkdir iSEE.buildbin-libdir && /Users/biocbuild/BBS/utils/build-universal.sh iSEE_2.18.0.tar.gz /Library/Frameworks/R.framework/Resources/bin/R iSEE.buildbin-libdir StartedAt: 2025-02-05 16:20:19 -0500 (Wed, 05 Feb 2025) EndedAt: 2025-02-05 16:21:16 -0500 (Wed, 05 Feb 2025) EllapsedTime: 56.7 seconds RetCode: 0 Status: OK PackageFile: iSEE_2.18.0.tgz PackageFileSize: 22.41 MiB