Package: iSEE Version: 2.18.0 Command: /Library/Frameworks/R.framework/Resources/bin/R CMD build --keep-empty-dirs --no-resave-data iSEE StartedAt: 2025-02-10 19:47:38 -0500 (Mon, 10 Feb 2025) EndedAt: 2025-02-10 19:52:21 -0500 (Mon, 10 Feb 2025) EllapsedTime: 283.5 seconds RetCode: 0 Status: OK PackageFile: iSEE_2.18.0.tar.gz PackageFileSize: 25.6 MiB