Package: iSEE Version: 2.18.0 Command: /Library/Frameworks/R.framework/Resources/bin/R CMD INSTALL iSEE StartedAt: 2025-02-03 16:07:22 -0500 (Mon, 03 Feb 2025) EndedAt: 2025-02-03 16:08:53 -0500 (Mon, 03 Feb 2025) EllapsedTime: 90.9 seconds RetCode: 0 Status: OK