Package: iSEE Version: 2.18.0 Command: rm -rf iSEE.buildbin-libdir && mkdir iSEE.buildbin-libdir && F:\biocbuild\bbs-3.20-bioc\R\bin\R.exe CMD INSTALL --build --library=iSEE.buildbin-libdir iSEE_2.18.0.tar.gz StartedAt: 2025-02-11 08:42:18 -0500 (Tue, 11 Feb 2025) EndedAt: 2025-02-11 08:44:57 -0500 (Tue, 11 Feb 2025) EllapsedTime: 159.4 seconds RetCode: 0 Status: OK PackageFile: iSEE_2.18.0.zip PackageFileSize: 22.46 MiB