Package: iSEE Version: 2.18.0 Command: F:\biocbuild\bbs-3.20-bioc\R\bin\R.exe CMD INSTALL iSEE StartedAt: 2025-02-10 16:25:44 -0500 (Mon, 10 Feb 2025) EndedAt: 2025-02-10 16:27:45 -0500 (Mon, 10 Feb 2025) EllapsedTime: 121.0 seconds RetCode: 0 Status: OK