Package: iSEE Version: 2.18.0 Command: /home/biocbuild/R/R/bin/R CMD INSTALL iSEE StartedAt: 2025-02-03 20:58:17 -0000 (Mon, 03 Feb 2025) EndedAt: 2025-02-03 20:59:08 -0000 (Mon, 03 Feb 2025) EllapsedTime: 50.6 seconds RetCode: 0 Status: OK