Package: iSEEde Version: 1.4.0 Command: rm -rf iSEEde.buildbin-libdir && mkdir iSEEde.buildbin-libdir && /Users/biocbuild/BBS/utils/build-universal.sh iSEEde_1.4.0.tar.gz /Library/Frameworks/R.framework/Resources/bin/R iSEEde.buildbin-libdir StartedAt: 2025-02-05 16:20:29 -0500 (Wed, 05 Feb 2025) EndedAt: 2025-02-05 16:21:13 -0500 (Wed, 05 Feb 2025) EllapsedTime: 43.2 seconds RetCode: 0 Status: OK PackageFile: iSEEde_1.4.0.tgz PackageFileSize: 2.417 MiB