Package: iSEEde Version: 1.4.0 Command: rm -rf iSEEde.buildbin-libdir && mkdir iSEEde.buildbin-libdir && /Users/biocbuild/BBS/utils/build-universal.sh iSEEde_1.4.0.tar.gz /Library/Frameworks/R.framework/Resources/bin/R iSEEde.buildbin-libdir StartedAt: 2024-11-09 16:55:09 -0500 (Sat, 09 Nov 2024) EndedAt: 2024-11-09 16:55:23 -0500 (Sat, 09 Nov 2024) EllapsedTime: 14.2 seconds RetCode: 0 Status: OK PackageFile: iSEEde_1.4.0.tgz PackageFileSize: 2.418 MiB