Package: iSEEde Version: 1.4.0 Command: /Library/Frameworks/R.framework/Resources/bin/R CMD INSTALL iSEEde StartedAt: 2025-02-10 16:00:50 -0500 (Mon, 10 Feb 2025) EndedAt: 2025-02-10 16:02:03 -0500 (Mon, 10 Feb 2025) EllapsedTime: 73.3 seconds RetCode: 0 Status: OK