Package: iSEEde Version: 1.4.0 Command: chmod a+r iSEEde -R && F:\biocbuild\bbs-3.20-bioc\R\bin\R.exe CMD build --keep-empty-dirs --no-resave-data iSEEde StartedAt: 2025-02-03 19:56:01 -0500 (Mon, 03 Feb 2025) EndedAt: 2025-02-03 19:58:36 -0500 (Mon, 03 Feb 2025) EllapsedTime: 155.6 seconds RetCode: 0 Status: OK PackageFile: iSEEde_1.4.0.tar.gz PackageFileSize: 3.09 MiB