Package: iSEEde Version: 1.4.0 Command: /home/biocbuild/R/R/bin/R CMD INSTALL iSEEde StartedAt: 2025-02-10 20:46:16 -0000 (Mon, 10 Feb 2025) EndedAt: 2025-02-10 20:46:58 -0000 (Mon, 10 Feb 2025) EllapsedTime: 42.7 seconds RetCode: 0 Status: OK