Package: iSEEfier Version: 1.2.0 Command: /Library/Frameworks/R.framework/Resources/bin/R CMD check --install=check:iSEEfier.install-out.txt --library=/Library/Frameworks/R.framework/Resources/library --no-vignettes --timings iSEEfier_1.2.0.tar.gz StartedAt: 2025-02-04 23:23:22 -0500 (Tue, 04 Feb 2025) EndedAt: 2025-02-04 23:29:00 -0500 (Tue, 04 Feb 2025) EllapsedTime: 338.6 seconds RetCode: 0 Status: OK CheckDir: iSEEfier.Rcheck Warnings: 0