Package: iSEEfier Version: 1.2.0 Command: rm -rf iSEEfier.buildbin-libdir && mkdir iSEEfier.buildbin-libdir && /Users/biocbuild/BBS/utils/build-universal.sh iSEEfier_1.2.0.tar.gz /Library/Frameworks/R.framework/Resources/bin/R iSEEfier.buildbin-libdir StartedAt: 2025-02-04 13:13:00 -0500 (Tue, 04 Feb 2025) EndedAt: 2025-02-04 13:14:30 -0500 (Tue, 04 Feb 2025) EllapsedTime: 89.9 seconds RetCode: 0 Status: OK PackageFile: iSEEfier_1.2.0.tgz PackageFileSize: 521.2 KiB