Package: iSEEfier Version: 1.2.0 Command: /Library/Frameworks/R.framework/Resources/bin/R CMD build --keep-empty-dirs --no-resave-data iSEEfier StartedAt: 2025-02-03 19:49:31 -0500 (Mon, 03 Feb 2025) EndedAt: 2025-02-03 19:51:50 -0500 (Mon, 03 Feb 2025) EllapsedTime: 139.6 seconds RetCode: 0 Status: OK PackageFile: iSEEfier_1.2.0.tar.gz PackageFileSize: 488.9 KiB