Package: iSEEfier Version: 1.2.0 Command: /Library/Frameworks/R.framework/Resources/bin/R CMD INSTALL iSEEfier StartedAt: 2025-02-03 16:13:52 -0500 (Mon, 03 Feb 2025) EndedAt: 2025-02-03 16:14:52 -0500 (Mon, 03 Feb 2025) EllapsedTime: 59.6 seconds RetCode: 0 Status: OK