Package: iSEEfier Version: 1.2.0 Command: rm -rf iSEEfier.buildbin-libdir && mkdir iSEEfier.buildbin-libdir && F:\biocbuild\bbs-3.20-bioc\R\bin\R.exe CMD INSTALL --build --library=iSEEfier.buildbin-libdir iSEEfier_1.2.0.tar.gz StartedAt: 2025-02-04 08:45:46 -0500 (Tue, 04 Feb 2025) EndedAt: 2025-02-04 08:46:28 -0500 (Tue, 04 Feb 2025) EllapsedTime: 41.2 seconds RetCode: 0 Status: OK PackageFile: iSEEfier_1.2.0.zip PackageFileSize: 406.3 KiB