Package: iSEEfier Version: 1.2.0 Command: chmod a+r iSEEfier -R && F:\biocbuild\bbs-3.20-bioc\R\bin\R.exe CMD build --keep-empty-dirs --no-resave-data iSEEfier StartedAt: 2025-02-03 19:56:02 -0500 (Mon, 03 Feb 2025) EndedAt: 2025-02-03 19:57:33 -0500 (Mon, 03 Feb 2025) EllapsedTime: 90.9 seconds RetCode: 0 Status: OK PackageFile: iSEEfier_1.2.0.tar.gz PackageFileSize: 370.9 KiB