Package: iSEEhex Version: 1.8.0 Command: /Library/Frameworks/R.framework/Resources/bin/R CMD check --install=check:iSEEhex.install-out.txt --library=/Library/Frameworks/R.framework/Resources/library --no-vignettes --timings iSEEhex_1.8.0.tar.gz StartedAt: 2025-02-04 23:23:55 -0500 (Tue, 04 Feb 2025) EndedAt: 2025-02-04 23:28:28 -0500 (Tue, 04 Feb 2025) EllapsedTime: 272.3 seconds RetCode: 0 Status: OK CheckDir: iSEEhex.Rcheck Warnings: 0