Package: iSEEindex
Version: 1.4.0
Command: /home/biocbuild/R/R/bin/R CMD check --install=check:iSEEindex.install-out.txt --library=/home/biocbuild/R/R/site-library --no-vignettes --timings iSEEindex_1.4.0.tar.gz
StartedAt: 2024-11-20 09:08:48 -0000 (Wed, 20 Nov 2024)
EndedAt: 2024-11-20 09:13:59 -0000 (Wed, 20 Nov 2024)
EllapsedTime: 310.6 seconds
RetCode: 0
Status: OK
CheckDir: iSEEindex.Rcheck
Warnings: 0