Package: iSEEindex Version: 1.4.0 Command: rm -rf iSEEindex.buildbin-libdir && mkdir iSEEindex.buildbin-libdir && F:\biocbuild\bbs-3.20-bioc\R\bin\R.exe CMD INSTALL --build --library=iSEEindex.buildbin-libdir iSEEindex_1.4.0.tar.gz StartedAt: 2025-02-14 08:18:08 -0500 (Fri, 14 Feb 2025) EndedAt: 2025-02-14 08:19:26 -0500 (Fri, 14 Feb 2025) EllapsedTime: 77.2 seconds RetCode: 0 Status: OK PackageFile: iSEEindex_1.4.0.zip PackageFileSize: 1.552 <A href="http://en.wikipedia.org/wiki/MiB" target="_blank">MiB</A>