Package: iSEEtree Version: 1.0.0 Command: /Library/Frameworks/R.framework/Resources/bin/R CMD build --keep-empty-dirs --no-resave-data iSEEtree StartedAt: 2025-02-04 02:04:17 -0500 (Tue, 04 Feb 2025) EndedAt: 2025-02-04 02:05:47 -0500 (Tue, 04 Feb 2025) EllapsedTime: 89.8 seconds RetCode: 0 Status: OK PackageFile: iSEEtree_1.0.0.tar.gz PackageFileSize: 655.1 KiB