Package: iSEEtree Version: 1.0.0 Command: /Library/Frameworks/R.framework/Resources/bin/R CMD INSTALL iSEEtree StartedAt: 2025-02-03 17:46:36 -0500 (Mon, 03 Feb 2025) EndedAt: 2025-02-03 17:47:34 -0500 (Mon, 03 Feb 2025) EllapsedTime: 58.0 seconds RetCode: 0 Status: OK