Package: iSEEtree Version: 1.0.0 Command: /Library/Frameworks/R.framework/Resources/bin/R CMD INSTALL iSEEtree StartedAt: 2024-11-08 15:48:54 -0500 (Fri, 08 Nov 2024) EndedAt: 2024-11-08 15:49:11 -0500 (Fri, 08 Nov 2024) EllapsedTime: 17.4 seconds RetCode: 0 Status: OK