Package: iSEEtree Version: 1.0.0 Command: /Library/Frameworks/R.framework/Resources/bin/R CMD check --install=check:iSEEtree.install-out.txt --library=/Library/Frameworks/R.framework/Resources/library --no-vignettes --timings iSEEtree_1.0.0.tar.gz StartedAt: 2025-02-04 05:23:01 -0500 (Tue, 04 Feb 2025) EndedAt: 2025-02-04 05:34:26 -0500 (Tue, 04 Feb 2025) EllapsedTime: 685.3 seconds RetCode: 0 Status: OK CheckDir: iSEEtree.Rcheck Warnings: 0