Package: iSEEu Version: 1.18.0 Command: /Library/Frameworks/R.framework/Resources/bin/R CMD build --keep-empty-dirs --no-resave-data iSEEu StartedAt: 2025-02-03 19:51:12 -0500 (Mon, 03 Feb 2025) EndedAt: 2025-02-03 19:54:50 -0500 (Mon, 03 Feb 2025) EllapsedTime: 218.2 seconds RetCode: 0 Status: OK PackageFile: iSEEu_1.18.0.tar.gz PackageFileSize: 1.62 MiB