Package: iSEEu Version: 1.18.0 Command: /home/biocbuild/R/R/bin/R CMD build --keep-empty-dirs --no-resave-data iSEEu StartedAt: 2025-02-18 00:27:33 -0000 (Tue, 18 Feb 2025) EndedAt: 2025-02-18 00:30:13 -0000 (Tue, 18 Feb 2025) EllapsedTime: 160.1 seconds RetCode: 0 Status: OK PackageFile: iSEEu_1.18.0.tar.gz PackageFileSize: 1.644 <A href="http://en.wikipedia.org/wiki/MiB" target="_blank">MiB</A>