Package: iSeq Version: 1.58.0 Command: /Library/Frameworks/R.framework/Resources/bin/R CMD build --keep-empty-dirs --no-resave-data iSeq StartedAt: 2025-02-04 02:04:22 -0500 (Tue, 04 Feb 2025) EndedAt: 2025-02-04 02:04:56 -0500 (Tue, 04 Feb 2025) EllapsedTime: 34.4 seconds RetCode: 0 Status: OK PackageFile: iSeq_1.58.0.tar.gz PackageFileSize: 1.325 MiB