Package: iSeq Version: 1.58.0 Command: /Library/Frameworks/R.framework/Resources/bin/R CMD INSTALL iSeq StartedAt: 2025-02-03 15:08:36 -0500 (Mon, 03 Feb 2025) EndedAt: 2025-02-03 15:08:41 -0500 (Mon, 03 Feb 2025) EllapsedTime: 4.7 seconds RetCode: 0 Status: OK