Package: iSeq Version: 1.58.0 Command: /Library/Frameworks/R.framework/Resources/bin/R CMD build --keep-empty-dirs --no-resave-data iSeq StartedAt: 2025-02-03 19:51:18 -0500 (Mon, 03 Feb 2025) EndedAt: 2025-02-03 19:51:59 -0500 (Mon, 03 Feb 2025) EllapsedTime: 40.9 seconds RetCode: 0 Status: OK PackageFile: iSeq_1.58.0.tar.gz PackageFileSize: 1.325 MiB