Package: iSeq Version: 1.58.0 Command: /Library/Frameworks/R.framework/Resources/bin/R CMD INSTALL iSeq StartedAt: 2025-02-03 15:12:11 -0500 (Mon, 03 Feb 2025) EndedAt: 2025-02-03 15:12:21 -0500 (Mon, 03 Feb 2025) EllapsedTime: 9.6 seconds RetCode: 0 Status: OK