Package: iSeq
Version: 1.57.0
Command: C:\Users\biocbuild\bbs-3.20-bioc\R\bin\R.exe CMD check --no-multiarch --install=check:iSeq.install-out.txt --library=C:\Users\biocbuild\bbs-3.20-bioc\R\library --no-vignettes --timings iSeq_1.57.0.tar.gz
StartedAt: 2024-07-16 01:07:17 -0400 (Tue, 16 Jul 2024)
EndedAt: 2024-07-16 01:08:02 -0400 (Tue, 16 Jul 2024)
EllapsedTime: 45.3 seconds
RetCode: 0
Status: OK
CheckDir: iSeq.Rcheck
Warnings: 0