Package: iSeq Version: 1.58.0 Command: chmod a+r iSeq -R && F:\biocbuild\bbs-3.20-bioc\R\bin\R.exe CMD build --keep-empty-dirs --no-resave-data iSeq StartedAt: 2025-02-03 19:57:39 -0500 (Mon, 03 Feb 2025) EndedAt: 2025-02-03 19:58:13 -0500 (Mon, 03 Feb 2025) EllapsedTime: 34.2 seconds RetCode: 0 Status: OK PackageFile: iSeq_1.58.0.tar.gz PackageFileSize: 1.201 MiB