Package: iSeq Version: 1.58.0 Command: F:\biocbuild\bbs-3.20-bioc\R\bin\R.exe CMD INSTALL iSeq StartedAt: 2025-02-03 15:31:02 -0500 (Mon, 03 Feb 2025) EndedAt: 2025-02-03 15:31:15 -0500 (Mon, 03 Feb 2025) EllapsedTime: 13.7 seconds RetCode: 0 Status: OK