Package: iasva Version: 1.24.0 Command: /Library/Frameworks/R.framework/Resources/bin/R CMD check --install=check:iasva.install-out.txt --library=/Library/Frameworks/R.framework/Resources/library --no-vignettes --timings iasva_1.24.0.tar.gz StartedAt: 2025-02-04 22:44:24 -0500 (Tue, 04 Feb 2025) EndedAt: 2025-02-04 22:48:04 -0500 (Tue, 04 Feb 2025) EllapsedTime: 220.0 seconds RetCode: 0 Status: OK CheckDir: iasva.Rcheck Warnings: 0