Package: iasva Version: 1.24.0 Command: F:\biocbuild\bbs-3.20-bioc\R\bin\R.exe CMD check --no-multiarch --install=check:iasva.install-out.txt --library=F:\biocbuild\bbs-3.20-bioc\R\library --no-vignettes --timings iasva_1.24.0.tar.gz StartedAt: 2025-02-04 02:48:59 -0500 (Tue, 04 Feb 2025) EndedAt: 2025-02-04 02:52:49 -0500 (Tue, 04 Feb 2025) EllapsedTime: 229.7 seconds RetCode: 0 Status: OK CheckDir: iasva.Rcheck Warnings: 0