Package: ideal Version: 2.0.0 Command: /Library/Frameworks/R.framework/Resources/bin/R CMD check --install=check:ideal.install-out.txt --library=/Library/Frameworks/R.framework/Resources/library --no-vignettes --timings ideal_2.0.0.tar.gz StartedAt: 2025-02-04 22:49:48 -0500 (Tue, 04 Feb 2025) EndedAt: 2025-02-04 22:58:09 -0500 (Tue, 04 Feb 2025) EllapsedTime: 500.3 seconds RetCode: 0 Status: OK CheckDir: ideal.Rcheck Warnings: 0