Package: ideal Version: 2.0.0 Command: rm -rf ideal.buildbin-libdir && mkdir ideal.buildbin-libdir && /Users/biocbuild/BBS/utils/build-universal.sh ideal_2.0.0.tar.gz /Library/Frameworks/R.framework/Resources/bin/R ideal.buildbin-libdir StartedAt: 2025-02-04 13:10:21 -0500 (Tue, 04 Feb 2025) EndedAt: 2025-02-04 13:13:07 -0500 (Tue, 04 Feb 2025) EllapsedTime: 166.3 seconds RetCode: 0 Status: OK PackageFile: ideal_2.0.0.tgz PackageFileSize: 5.536 MiB