Package: ideal Version: 2.0.0 Command: /Library/Frameworks/R.framework/Resources/bin/R CMD INSTALL ideal StartedAt: 2025-02-03 16:34:32 -0500 (Mon, 03 Feb 2025) EndedAt: 2025-02-03 16:36:30 -0500 (Mon, 03 Feb 2025) EllapsedTime: 117.9 seconds RetCode: 0 Status: OK