Package: idiogram Version: 1.82.0 Command: /Library/Frameworks/R.framework/Resources/bin/R CMD check --install=check:idiogram.install-out.txt --library=/Library/Frameworks/R.framework/Resources/library --no-vignettes --timings idiogram_1.82.0.tar.gz StartedAt: 2025-02-04 22:50:44 -0500 (Tue, 04 Feb 2025) EndedAt: 2025-02-04 22:52:38 -0500 (Tue, 04 Feb 2025) EllapsedTime: 114.5 seconds RetCode: 0 Status: OK CheckDir: idiogram.Rcheck Warnings: 0