Package: idpr Version: 1.16.0 Command: rm -rf idpr.buildbin-libdir && mkdir idpr.buildbin-libdir && /Users/biocbuild/BBS/utils/build-universal.sh idpr_1.16.0.tar.gz /Library/Frameworks/R.framework/Resources/bin/R idpr.buildbin-libdir StartedAt: 2025-02-05 16:15:56 -0500 (Wed, 05 Feb 2025) EndedAt: 2025-02-05 16:16:04 -0500 (Wed, 05 Feb 2025) EllapsedTime: 8.0 seconds RetCode: 0 Status: OK PackageFile: idpr_1.16.0.tgz PackageFileSize: 3.698 MiB