Package: idpr Version: 1.16.0 Command: /Library/Frameworks/R.framework/Resources/bin/R CMD build --keep-empty-dirs --no-resave-data idpr StartedAt: 2025-02-04 01:40:21 -0500 (Tue, 04 Feb 2025) EndedAt: 2025-02-04 01:41:23 -0500 (Tue, 04 Feb 2025) EllapsedTime: 62.1 seconds RetCode: 0 Status: OK PackageFile: idpr_1.16.0.tar.gz PackageFileSize: 3.612 MiB