Package: idpr Version: 1.16.0 Command: rm -rf idpr.buildbin-libdir && mkdir idpr.buildbin-libdir && /Users/biocbuild/BBS/utils/build-universal.sh idpr_1.16.0.tar.gz /Library/Frameworks/R.framework/Resources/bin/R idpr.buildbin-libdir StartedAt: 2024-11-20 04:32:09 -0500 (Wed, 20 Nov 2024) EndedAt: 2024-11-20 04:32:21 -0500 (Wed, 20 Nov 2024) EllapsedTime: 12.3 seconds RetCode: 0 Status: OK PackageFile: idpr_1.16.0.tgz PackageFileSize: 3.696 MiB