Package: idpr Version: 1.16.0 Command: /Library/Frameworks/R.framework/Resources/bin/R CMD build --keep-empty-dirs --no-resave-data idpr StartedAt: 2024-11-19 17:15:03 -0500 (Tue, 19 Nov 2024) EndedAt: 2024-11-19 17:16:47 -0500 (Tue, 19 Nov 2024) EllapsedTime: 103.4 seconds RetCode: 0 Status: OK PackageFile: idpr_1.16.0.tar.gz PackageFileSize: 3.611 MiB