Package: idpr Version: 1.16.0 Command: /Library/Frameworks/R.framework/Resources/bin/R CMD build --keep-empty-dirs --no-resave-data idpr StartedAt: 2025-02-10 19:40:13 -0500 (Mon, 10 Feb 2025) EndedAt: 2025-02-10 19:42:07 -0500 (Mon, 10 Feb 2025) EllapsedTime: 114.7 seconds RetCode: 0 Status: OK PackageFile: idpr_1.16.0.tar.gz PackageFileSize: 3.611 MiB