Package: idpr Version: 1.16.0 Command: /Library/Frameworks/R.framework/Resources/bin/R CMD INSTALL idpr StartedAt: 2025-02-03 15:26:34 -0500 (Mon, 03 Feb 2025) EndedAt: 2025-02-03 15:26:44 -0500 (Mon, 03 Feb 2025) EllapsedTime: 9.7 seconds RetCode: 0 Status: OK